BEGIN:VCALENDAR
PRODID:-//eluceo/ical//2.0/EN
VERSION:2.0
CALSCALE:GREGORIAN
BEGIN:VEVENT
UID:ed9d6a835ad7f38c9a69626ef9bdf02f
DTSTAMP:20260423T173031Z
SUMMARY:Medical Taiwan 2025
DESCRIPTION:Název akce: Medical Taiwan 2025\nURL: https://www.spcr.cz/medi
 cal-taiwan-2025\nPopis: \n\nDovolujeme si Vám předat pozvání Tchajpejs
 ké hospodářské a kulturní kancelář v Praze na mezinárodní veletrh
  2025 Medical Taiwan\, který se bude konat v Taipei Nangang Exhibition Ce
 nter od 5. června do 7. června 2025.Medical Taiwan je přední globáln
 í obchodní a marketingovou platformu pro domácí i mezinárodní výrob
 ce zdravotnického vybavení. Představuje profesionální asistenční za
 řízení\, digitální zdravotní péči\, zdravotnické přístroje a vy
 bavení\, zdravotnické díly a potřeby\, zdravotnický materiál a zdrav
 otnické služby. Letos se veletrh zaměřuje na zdravotní péči pro vš
 echny věkové kategorie\, chytré zdravotnictví\, galerii zdravotnickýc
 h potřeb a inovace a startupy.Aktuální informace naleznete na oficiáln
 ích webových stránkách.Na podporu účasti na tomto veletrhu jsou nab
 ízeny pobídkové balíčky jejichž nabídka platí do vyčerpání fina
 nčního rozpočtu. Balíčky jsou poskytovány podle pořadí přijetí p
 řihlášky.Pro registraci a podání pobídkové přihlášky je potřeba
  vyplnit přihláškový formulář "company profile" a odeslat jej na ema
 ilovou adresu czech@sa.moea.gov.tw nebo cztwec01@sa.moea.gov.tw.V případ
 ě dalších dotazů se můžete obrátit na následující kontakt:Michae
 la OrságováEkonomické odděleníTchajpejská hospodářská a kulturní
  kancelář v PrazeTel.: (+420) 234 722 021\n
URL:https://www.spcr.cz/medical-taiwan-2025
DTSTART:20250605T000000
DTEND:20250607T235900
LOCATION:Taipei Nangang Exhibition
END:VEVENT
END:VCALENDAR
