BEGIN:VCALENDAR
PRODID:-//eluceo/ical//2.0/EN
VERSION:2.0
CALSCALE:GREGORIAN
BEGIN:VEVENT
UID:57a7fb113e91829b2c2b312257fd4e54
DTSTAMP:20260423T150509Z
SUMMARY:Italsko-český Business Day Logistics
DESCRIPTION:Název akce: Italsko-český Business Day Logistics\nURL: https
 ://www.spcr.cz/italsko-cesky-business-day-logistics-0\nPopis: \n\nItalsko-
 česká obchodní komora si Vás dovoluje pozvat na Italsko-český Busin
 ess Day Logistics zaměřený na aktuální trendy a výzvy v logistice.
 \nAkce se uskuteční dne 2. dubna 2025 od 17:00 v prostorách Italské
 ho velvyslanectví v Praze na adrese Nerudova 214/20\, 118 00 Malá Stran
 a. Jedná se o jedinečnou příležitost pro setkání českých a italsk
 ých firem a institucí\, která si klade za cíl rozvíjet a posilovat st
 rategickou spolupráci v logistickém sektoru. Program akce najdete na od
 kaze níže.\nÚčast na akci je zdarma\, je však nutné se registrovat v
 yplněním tohoto FORMULÁŘE\, nejpozději do 28.3.2025.\nProgram_Busine
 ss_Day_Logistics.pdf\n \n \n \n
URL:https://www.spcr.cz/italsko-cesky-business-day-logistics-0
DTSTART:20250402T170000
DTEND:20250402T190000
LOCATION:
END:VEVENT
END:VCALENDAR
