BEGIN:VCALENDAR
PRODID:-//eluceo/ical//2.0/EN
VERSION:2.0
CALSCALE:GREGORIAN
BEGIN:VEVENT
UID:ca9cd0ea66a4644706f54e6336883dfc
DTSTAMP:20260423T125316Z
SUMMARY:European Defence & Security Summit 2025
DESCRIPTION:Název akce: European Defence & Security Summit 2025\nURL: http
 s://www.spcr.cz/european-defence-security-summit-2025\nPopis: \n\nTOWARDS 
 A EUROPE OF DEFENCE\nThree years after Russia launched its full-scale inva
 sion of Ukraine\, war still rages on the EU’s eastern flank. Warnings th
 at Moscow could expand its aggression beyond Ukraine are growing more urge
 nt\, and hybrid threats are quickly becoming a daily preoccupation. Meanwh
 ile\, Hamas’s attack on October 7 ignited yet another crisis in the Midd
 le East\, spilling over to deepen the risk of regional instability\, while
  reshaping the security landscape.\nFor Europe\, these twin crises come at
  a precarious moment. With the result of U.S. election now clear\, the EU 
 must decide whether it is willing - and able - to take greater responsibil
 ity for its own security. A new European Parliament and Commission\, as we
 ll as crucial budgetary and financial negotiations - amongst other key top
 ics - will shape the bloc’s response. The coming years will reveal wheth
 er Europe can assert itself as a strategic actor\, transforming current ch
 allenges\, threats and hostilities into opportunities to take proactive le
 adership and achieve long-term security.\nRegistration and more informatio
 n can be found here. \n
URL:https://www.spcr.cz/european-defence-security-summit-2025
DTSTART:20250610T000000
DTEND:20250611T235959
LOCATION:
END:VEVENT
END:VCALENDAR
