BEGIN:VCALENDAR
PRODID:-//eluceo/ical//2.0/EN
VERSION:2.0
CALSCALE:GREGORIAN
BEGIN:VEVENT
UID:d8fd81d949f77160c779e15b1fe2f456
DTSTAMP:20260423T130943Z
SUMMARY:Seminář Aktuální situace v oblasti zaměstnávání cizinců v 
 ČR
DESCRIPTION:Název akce: Seminář Aktuální situace v oblasti zaměstnáv
 ání cizinců v ČR\nURL: https://www.spcr.cz/seminar-aktualni-situace-v-
 oblasti-zamestnavani-cizincu-v-cr-0\nPopis: \n\nMinisterstvo průmyslu a o
 bchodu pořádá další sérii odborných seminářů zaměřených na z
 aměstnávání kvalifikovaných cizinců v ČR. V 2025 plánují uspořá
 dat 4 semináře a 1 webinář\, přičemž celou sérii zahájí seminá
 ř v Praze dne 3. dubna 2025 (místo konání: budova MPO Na Františku 
 32 v Praze). \nNíže naleznete oficiální pozvánku a program prvního
  semináře. Termíny a místa konání následujících seminářů budou
  sděleny v blízké době.\nRegistrace na seminář je zdarma a probíh
 á vyplněním registračního formuláře do 30. března 2025. V pří
 padě naplnění kapacity bude registrace ukončena dříve.\nÚčastník
 ům semináře bude zpřístupněn „Reprezentační vchod“ z ulice Ř
 ásnovka. Pro vstup použijte\, prosím\, tento vchod\, nikoliv hlavní vc
 hod z ulice Na Františku.\nVíce informací zde: https://mpo.gov.cz/udal
 ost548.html\n
URL:https://www.spcr.cz/seminar-aktualni-situace-v-oblasti-zamestnavani-ciz
 incu-v-cr-0
DTSTART:20250403T090000
DTEND:20250403T141500
LOCATION:
END:VEVENT
END:VCALENDAR
