BEGIN:VCALENDAR
PRODID:-//eluceo/ical//2.0/EN
VERSION:2.0
CALSCALE:GREGORIAN
BEGIN:VEVENT
UID:3321bd10486bcc871fc2349be160c712
DTSTAMP:20260423T125316Z
SUMMARY:12. Národní konference transferu
DESCRIPTION:Název akce: 12. Národní konference transferu\nURL: https://w
 ww.spcr.cz/12-narodni-konference-transferu\nPopis: \n\nSvaz zve na 12. ro
 čník konference k transferu\, kde bude garantem jednoho z panelů. Přij
 ďte diskutovat o možnostech spolupráce a přenosu technologií z výzku
 mných organizací k firmám.\nTato prestižní událost\, pořádaná pod
  záštitou spolku Transfera.cz\, představuje vrcholnou platformu pro sd
 ílení poznatků\, zkušeností a aktuálních trendů v oblasti transfer
 u technologií v České republice. Hlavním tématem letošního ročník
 u je Transfer technologií jako součást inovačního ekosystému. Progra
 m se zaměří na klíčovou roli\, kterou transfer technologií sehrává
  při propojení akademické sféry\, podnikatelského prostředí\, veře
 jného sektoru a investorů. Účastníci budou diskutovat o tom\, jak efe
 ktivně zapojit výsledky vědy a výzkumu do praxe\, podpořit vznik inov
 ací a vytvořit robustní inovační ekosystém\, který přispěje ke ko
 nkurenceschopnosti české ekonomiky na globální úrovni.\nCelý program
  naleznete zde.\n
URL:https://www.spcr.cz/12-narodni-konference-transferu
DTSTART:20250319T000000
DTEND:20250319T235959
LOCATION:
END:VEVENT
END:VCALENDAR
