BEGIN:VCALENDAR
PRODID:-//eluceo/ical//2.0/EN
VERSION:2.0
CALSCALE:GREGORIAN
BEGIN:VEVENT
UID:218771b34f2aef283493959228a93850
DTSTAMP:20260423T125316Z
SUMMARY:CZECH & SLOVAK SUSTAINABILITY SUMMIT 2025
DESCRIPTION:Název akce: CZECH & SLOVAK SUSTAINABILITY SUMMIT 2025\nURL: ht
 tps://www.spcr.cz/czech-slovak-sustainability-summit-2025\nPopis: \n\nPři
 pravte se na silné myšlenky\, nečekané souvislosti a nové impulsy pro
  váš přístup k udržitelnosti! Připojte se k lídrům udržitelnosti
  a formujte budoucnost podnikání na českém a slovenském trhu. Czech &
  Slovak Sustainability Summit 2025 již potřetí propojí experty\, inov
 átory a manažery udržitelnosti\, aby společně hledali efektivní cest
 y k odpovědnější budoucnosti. Tato prestižní událost přinese inspi
 raci\, nejnovější poznatky i praktické zkušenosti ze světa udržitel
 nosti. Letošní ročník nabídne mimořádně bohatý program zaměřen
 ý na klíčové výzvy současnosti\, inovativní přístupy a strategick
 á řešení pro firmy\, které chtějí uspět v rychle se měnícím sv
 ětě odpovědného podnikání.CZECH & SLOVAK SUSTAINABILITY SUMMIT 2025 
 | 4. 2025\, Cubex Centrum PrahaCo vás čeká?Inspirativní panelové dis
 kuse s předními expertyPraktické ukázky úspěšných udržitelných p
 rojektůOvěřené strategie pro implementaci udržitelnosti v praxiMožno
 st propojení s klíčovými hráči trhuSummit přinese pohled na nejpal
 čivější témata současnosti – od cirkulární ekonomiky přes ESG r
 egulace až po inovace\, které mění pravidla hry. Přední odborníci a
  vizionáři pojmenují největší výzvy a nabídnou konkrétní řešen
 í\, která mohou firmy ihned aplikovat.Kdo vystoupí na pódiu? Mezi pot
 vrzenými řečníky jsou například:Petr Hladík – Ministerstvo život
 ního prostředí ČRPetr Jonák – Svaz průmyslu a dopravy ČRVeronika 
 Cifrová Ostrihoňová – Evropský parlamentVladimír Kočí – VŠCHT 
 PrahaTomáš Myler – McDonald’sFilip Gregor – Frank Bold AdvisoryTer
 eza Horáková – IpsosKatarína Navrátilová – Tesco Stores Česká r
 epublikaPetra Ondrušová – Česká spořitelnaMartin Jahn – ŠKODA AU
 TO...a mnoho dalších špičkových odborníků.Programem vás provede zk
 ušený moderátor Rey Koranteng\, který zajistí dynamický průběh dis
 kusí a vtáhne účastníky do podnětných debat.Nezmeškejte příleži
 tost být součástí nejvýznamnější události v oblasti udržitelnost
 i! Přijďte se inspirovat\, sdílet své zkušenosti a navázat nové str
 ategické kontakty\, které mohou posunout vaše podnikání směrem k odp
 ovědnější a úspěšnější budoucnosti.Registrace na Sustainability 
 Summit 2025 běží v plném proudu. Zajistěte si své místo ještě dne
 s: www.sustainabilitysummit.cz/registrace/ a připojte se ke stovkám odbo
 rníků\, kteří sdílejí vášeň pro udržitelnou budoucnost.Podrobný
  program najdete zde: www.sustainabilitysummit.cz/programPokud chcete sled
 ovat novinky z příprav summitu a čerpat inspiraci i po akci\, sledujte 
 profil summitu\n
URL:https://www.spcr.cz/czech-slovak-sustainability-summit-2025
DTSTART:20250410T080000
DTEND:20250410T230000
LOCATION:
END:VEVENT
END:VCALENDAR
