BEGIN:VCALENDAR
PRODID:-//eluceo/ical//2.0/EN
VERSION:2.0
CALSCALE:GREGORIAN
BEGIN:VEVENT
UID:1d6ac8d1a09a7f37f1a3bf075f2c8cbe
DTSTAMP:20260423T125316Z
SUMMARY:Konference VTZ elektrická
DESCRIPTION:Název akce: Konference VTZ elektrická\nURL: https://www.spcr.
 cz/konference-vtz-elektricka\nPopis: \n\nSvaz průmyslu navazuje na velmi 
 žádané semináře\, které pro nás přednášel Mgr. Radek Roušar na 
 téma Nová legislativa pro vyhrazená elektrická zařízení a Odborná 
 způsobilost v elektrotechnice. Byť nová legislativa platí již témě
 ř tři roky\, stále odpovídá dokola na stejné otázky a množství t
 ěchto otázek rozhodně nepolevuje. Z tohoto důvodu se ve spolupráci s 
 MPSV\, SUIP a TIČR rozhodl připravit konferenci\, která ještě jednou 
 zrekapituluje novou legislativu\, a to včetně novely z roku 2024 a pozna
 tků z praxe a kontrolní činnosti státu.Tato konference se uskuteční 
 ve čtvrtek 10. 4. 2025 v konferenčním sále Střední odborné školy J
 arov (Praha 9) a účast na ní bude možná jak prezenčně\, tak online 
 odkudkoliv z celé ČR či dokonce světa.Více infomací zde.Členové Sv
 azu průmyslu a dopravy ČR mají nárok na zvýhodněnou cenu. Pro získ
 ání slevy 1000 Kč zadejte do objednávky kód: „SPCR2025“ Nutno vyu
 žít do 31.3.2025.Pokud nejste naším členem\, napište na nvojtiskova@
 spcr.cz\, která Vám slevu také může zařídit. Prosím o přeposlán
 í kompetentním kolegům\, akce se nebude opakovat.\n
URL:https://www.spcr.cz/konference-vtz-elektricka
DTSTART:20250410T080000
DTEND:20250410T170000
LOCATION:
END:VEVENT
END:VCALENDAR
