BEGIN:VCALENDAR
PRODID:-//eluceo/ical//2.0/EN
VERSION:2.0
CALSCALE:GREGORIAN
BEGIN:VEVENT
UID:5315d27728b6524b912e413f3bebcbd0
DTSTAMP:20260423T163311Z
SUMMARY:COMPUTEX TAIPEI 2025
DESCRIPTION:Název akce: COMPUTEX TAIPEI 2025\nURL: https://www.spcr.cz/com
 putex-taipei-2025\nPopis: \n\nDovolujeme si Vám předat pozvání Tchajpe
 jské hospodářské a kulturní kanceláře v Praze na mezinárodní vele
 trh COMPUTEX TAIPEI 2025\, přední světovou výstavu pro AIoT a startup
 y. Veletrh se bude konat v Taipei Nangang Exhibition Center od 20. května
  do 23. května 2025. Letos se na veletrhu COMPUTEX představí nejnověj
 ší technologické trendy: umělá inteligence a robotika (AI & Robotics)
 \, technologie příštích generací (Next-Gen Tech) a mobilita budoucnos
 ti (Future Mobility). Přibližně 1 500 mezinárodních IT společností 
 představí své nejnovější inovace a řešení spolu s tchajwanskými 
 společnostmi\, jako jsou Asus\, BenQ\, Delta a Transcend atd.Aktuální i
 nformace naleznete na oficiálních webových stránkách.Na podporu úča
 sti na tomto veletrhu jsou nabízení pobídkové balíčky. Upozorňujeme
 \, že nabídky platí do vyčerpání finančního rozpočtu a balíčky 
 jsou poskytovány podle pořadí přijetí přihlášky.Pro registraci a p
 odání pobídkové přihlášky vyplňte prosím přiložený formulář 
 "company profile" a zašlete jej na emailovou adresu czech@sa.moea.gov.tw 
 nebo cztwec01@sa.moea.org.tw.V případě potřeby dalších informací vy
 užjte následující kontakt:Michaela OrságováEkonomické odděleníTch
 ajpejská hospodářská a kulturní kancelář v PrazeTel.: (+420) 234 72
 2 021\n
URL:https://www.spcr.cz/computex-taipei-2025
DTSTART:20250520T000000
DTEND:20250523T235900
LOCATION:Taipei Nangang Exhibition Center
END:VEVENT
END:VCALENDAR
