BEGIN:VCALENDAR
PRODID:-//eluceo/ical//2.0/EN
VERSION:2.0
CALSCALE:GREGORIAN
BEGIN:VEVENT
UID:3a1117a3335c0f5b92e5d5e54daead05
DTSTAMP:20260423T145744Z
SUMMARY:Živá knihovna povolání Jablonec nad Nisou
DESCRIPTION:Název akce: Živá knihovna povolání Jablonec nad Nisou\nURL
 : https://www.spcr.cz/ziva-knihovna-povolani-jablonec-nad-nisou-0\nPopis: 
 \n\nRozhoduješ se\, na jakou střední školu půjdeš? Čím chceš být
 ? Napadlo tě\, kde můžeš po škole pracovat?Přijď si na vlastní k
 ůži vyzkoušet zajímavé profese! Seznam se s firmami ve tvém okolí
  a vyber si tu správnou školu pro Tebe.S rozhodováním ti pomůže:se
 řizovač – Preciosa a.s.kariérový poradce – ÚP ČR\, Krajská pobo
 čka v Liberci\, Kontaktní pracoviště Jablonecnad Nisouelektronik a e
 lektromechanik – ZF Automotive Czech s.r.o.elektromontér – ČEZ DISTR
 IBUCE a.s.nástrojař\, CAD designer\, CNC obráběč a programátor – A
 .RAYMOND JABLONECs.r.o.procesní inženýr – Cikautxo CZ s.r.o.Techniki
 áda – Centrum praxí s.r.o.policista – Krajské ředitelství policie
  Libereckého krajeBližší informace a kontakt pro registraci Ing. N. Vo
 jtíšková\, mobil 733 643 520.\n
URL:https://www.spcr.cz/ziva-knihovna-povolani-jablonec-nad-nisou-0
DTSTART:20250423T000000
DTEND:20250423T235900
LOCATION:
END:VEVENT
END:VCALENDAR
