BEGIN:VCALENDAR
PRODID:-//eluceo/ical//2.0/EN
VERSION:2.0
CALSCALE:GREGORIAN
BEGIN:VEVENT
UID:5d2328ecfbedcc5e7bb516bec26a19c2
DTSTAMP:20260423T163311Z
SUMMARY:Živá knihovna povolání Jičín
DESCRIPTION:Název akce: Živá knihovna povolání Jičín\nURL: https://w
 ww.spcr.cz/ziva-knihovna-povolani-jicin-0\nPopis: \n\nRozhoduješ se\, na 
 jakou střední školu půjdeš? Čím chceš být? Napadlo tě\, kde mů
 žeš po škole pracovat?Přijď si na vlastní kůži vyzkoušet zajímav
 é profese! Seznam se s firmami ve tvém okolí a vyber si tu správnou 
 školu pro Tebe.S rozhodováním ti pomůže:Lékař\, chirurg – Oblast
 ní nemocnice Jičín a.s.Elektromechanik – ČEZ Distribuce a.s.Provozn
 í zámečník – Sklopísek Střeleč a.s.Technik speciálních zakázek
  – SQS Vláknová optika a.s.Kontrolor jakosti – SpofaDental a.s. (Ker
 r)Operátor elektromechanických montáží – QUITTNER & SCHIMEK s.r.o.M
 ůj život po škole – Krajský úřad Královéhradeckého krajeBližš
 í informace a kontakt pro registraci Ing. N. Vojtíšková\, mobil 733 6
 43 520.\n
URL:https://www.spcr.cz/ziva-knihovna-povolani-jicin-0
DTSTART:20250415T000000
DTEND:20250415T235900
LOCATION:
END:VEVENT
END:VCALENDAR
