BEGIN:VCALENDAR
PRODID:-//eluceo/ical//2.0/EN
VERSION:2.0
CALSCALE:GREGORIAN
BEGIN:VEVENT
UID:a969dbdef4fedbe0a20a3791e66898fd
DTSTAMP:20260423T130007Z
SUMMARY:Živá knihovna povolání Liberec
DESCRIPTION:Název akce: Živá knihovna povolání Liberec\nURL: https://w
 ww.spcr.cz/ziva-knihovna-povolani-liberec-1\nPopis: \n\nRozhoduješ se\, n
 a jakou střední školu půjdeš? Čím chceš být? Napadlo tě\, kde m
 ůžeš po škole pracovat?Přijď si na vlastní kůži vyzkoušet zajím
 avé profese! Seznam se s firmami ve tvém okolí a vyber si tu správno
 u školu pro Tebe.S rozhodováním ti pomůže:seřizovač – Preciosa a
 .s.elektromontér – ČEZ Distribuce\, a.s.bankovní pracovník – ČSOB
  a.s.lektor/performer – IQLANDIA\, o.p.s.elektronik – DGS Druckguss Sy
 steme s.r.o.policista – Krajské ředitelství policie Libereckého kraj
 eměrový technik laboratoře – Magna Exteriors (Bohemia) s.r.o.sváře
 č plastů – UCT Fluid Delivery Solutions\, s.r.o.strojník – řidič 
 v Technických službách – Technické služby města Liberec p.o.Bliž
 ší informace a kontakt pro registraci Ing. N. Vojtíšková\, mobil 733
  643 520.\n
URL:https://www.spcr.cz/ziva-knihovna-povolani-liberec-1
DTSTART:20250407T000000
DTEND:20250407T235900
LOCATION:
END:VEVENT
END:VCALENDAR
