BEGIN:VCALENDAR
PRODID:-//eluceo/ical//2.0/EN
VERSION:2.0
CALSCALE:GREGORIAN
BEGIN:VEVENT
UID:6276ef861e4f84d006a0ef7698e078ee
DTSTAMP:20260423T173746Z
SUMMARY:Živá knihovna povolání Náchod
DESCRIPTION:Název akce: Živá knihovna povolání Náchod\nURL: https://w
 ww.spcr.cz/ziva-knihovna-povolani-nachod-0\nPopis: \n\nRozhoduješ se\, na
  jakou střední školu půjdeš? Čím chceš být? Napadlo tě\, kde m
 ůžeš po škole pracovat?Přijď si na vlastní kůži vyzkoušet zajím
 avé profese! Seznam se s firmami ve tvém okolí a vyber si tu správno
 u školu pro Tebe.S rozhodováním ti pomůže:Elektromontér – ČEZ DI
 STRIBUCE a.s.Hodinář – ELTON hodinářská a.s.Konstruktér – Wikov
  MGI a.s.Technikiáda – Centrum praxí s.r.o.Nástrojař\, elektromechan
 ik – ATAS elektromotory Náchod a.s.Servisní technik – Ammann Czech 
 Republic s.r.o.Vývojový technik – Merkur Toys s.r.o.Můj život po šk
 ole – Krajský úřad Královéhradeckého krajeBližší informace a ko
 ntakt pro registraci Ing. N. Vojtíšková\, mobil 733 643 520.\n
URL:https://www.spcr.cz/ziva-knihovna-povolani-nachod-0
DTSTART:20250326T000000
DTEND:20250326T235900
LOCATION:
END:VEVENT
END:VCALENDAR
