BEGIN:VCALENDAR
PRODID:-//eluceo/ical//2.0/EN
VERSION:2.0
CALSCALE:GREGORIAN
BEGIN:VEVENT
UID:ad10f5636eee716a7e18594727be2310
DTSTAMP:20260423T130007Z
SUMMARY:Nové trendy v požární ochraně 2025
DESCRIPTION:Název akce: Nové trendy v požární ochraně 2025\nURL: http
 s://www.spcr.cz/nove-trendy-v-pozarni-ochrane-2025\nPopis: \n\nPořadatel 
 Hasičský záchranný sbor Libereckého kraje. Spolupořadatelé Svaz pr
 ůmyslu a dopravy České republiky a ČKAIT\, oblastní kancelář Libere
 c\nDOPOLEDNÍ BLOK PŘEDNÁŠEK – přihlášení ZDEZahájení seminář
 e a úvodní slovo(plk. Ing. Ondřej Zmrhal\, HZS LBK)\nProcesy stavební 
 prevence a digitalizace u HZS LBK s novým stavebním zákonem: (kpt. Ing
 . Kateřina Štajncová\, HZS LBK)\nNová příloha J normy ČSN 730802 
 – zařízení pro předškolní péči o dětiNová příloha K normy Č
 SN 730802 – dřevostavbyKoncept aktualizace normy ČSN 730872 – Ochran
 a staveb proti šíření požáruvzduchotechnickým zařízením(Ing. Pet
 r Boháč\, člen TNK 27\, spol. Požární bezpečnost staveb s.r.o.)\nOD
 POLEDNÍ BLOK PŘEDNÁŠEK – přihlášení ZDEAktuality z oblasti smluv
 ního vztahu při připojování objektů na PCO HZS LBK(kpt. Ing. Eva Mas
 ná\, HZS LBK)\nAktuality z kontrolní činnosti HZS LBK(kpt. Mgr. Karolí
 na Brožková\, HZS LBK)Navazující postup HZS LBK po zjištění nedosta
 tků při kontrolní činnosti HZS LBK(kpt. Ing. Eva Masná\, kpt. Mgr. Ka
 rolína Brožková)(v přímé souvislosti 2 předešlých přednášek)\,
  HZS LBKStatisticky četnější činnosti vedoucí ke vzniku požáru\, n
 ávody výrobců vs. uživatelská realita(kpt. Mgr. Roman Kupec\, por. In
 g. Lukáš Voleský\, Ph.D.\, HZS LBK)\nPokud se chcete účastnit dopoled
 ního i odpoledního bloku\, proveďte registraci do obou bloků. Těmito 
 rozdělenými registracemi sledujeme počet přihlášených vůči kapaci
 tě sálu\, která je 120 osob. Při úspěšném přihlášení na zvolen
 ý blok / oba bloky Vám systém doručí automatické potvrzení. Seminá
 ř je v rámci programu celoživotního vzdělávání ČKAIT hodnocen 1 b
 odem – pro jeho získání je nutné do registrace na dopolední část 
 uvést číslo Vaší autorizace. Neuvedená čísla autorizace pořadatel
  ručně dohledávat nebude a oblastní kanceláři Liberec bude předán 
 seznam účastníků generovaný přímo z registračních formulářů.\n
 Podrobnější časový harmonogram bude upřesněn později. Změna progr
 amu vyhrazena. Účast na semináři je bezplatná\, drobné občerstvení
  na místě zajištěno.\nMapa areálu nemocnice:UPOZORNĚNÍ: dopravní s
 ituace přímo v areálu nemocnice i v jeho okolí není pro krátkodobé 
 veřejné parkování nijak příznivá. Doporučujeme informovat se o pod
 mínkách parkovánídopředu a včasný dojezd k místu konání akce. V 
 areálu probíhají intenzivní stavební práce na nových objektech nemo
 cnice\, apelujeme na dodržování všech zákazů\, omezení a opatření
  s tím spojená.\nVelmi se těšíme na osobní setkání s Vámi. Tým p
 revence Hasičského záchranného sboru Libereckého krajekpt. Ing. Kate
 řina Štajncová\, 950 471 219\, katerina.stajncova@hzscr.cz\n
URL:https://www.spcr.cz/nove-trendy-v-pozarni-ochrane-2025
DTSTART:20250610T083000
DTEND:20250610T235959
LOCATION:
END:VEVENT
END:VCALENDAR
