BEGIN:VCALENDAR
PRODID:-//eluceo/ical//2.0/EN
VERSION:2.0
CALSCALE:GREGORIAN
BEGIN:VEVENT
UID:b3916001ba6420c46d54624bac6ca25e
DTSTAMP:20260423T174015Z
SUMMARY:Konference Zeměpisná označení pod taktovkou EU
DESCRIPTION:Název akce: Konference Zeměpisná označení pod taktovkou EU
 \nURL: https://www.spcr.cz/konference-zemepisna-oznaceni-pod-taktovkou-eu\
 nPopis: \n\nDne 12. března 2025 pořádá Úřad průmyslového vlastnict
 ví konferenci Zeměpisná označení pod taktovkou EU s podtitulem Ja
 k chránit české tradiční řemeslné a průmyslové výrobky. Konferen
 ce je pořádána ve spolupráci s Evropskou komisí.Tématem konference
  budou novinky v ochraně řemeslných a průmyslových výrobků\, např.
  skla\, keramiky\, porcelánu\, šperků\, textilií\, dřevěných výrob
 ků. Přednášky budou zaměřeny na právní úpravu EU v oblasti zeměp
 isných označení a jak s ní držet krok. Součástí bude panelová dis
 kuse s výrobci. Konference bude též příležitostí k seznámení se s
  chráněnými výrobky a k navázání nových kontaktů. Konference se 
 bude konat v kongresovém sále Úřadu průmyslového vlastnictví a bude
  možné ji sledovat i online. Na místě bude zajištěno tlumočení z
  českého a anglického jazyka. Registraci na konferenci je možné pr
 ovést online nejpozději do 9. března 2025 na adrese: https://forms.off
 ice.com/pages/responsepage.aspx?id=Ezz14c0BBkCfdTRUtg2Fh1iuRdeAyXZLt3KiG_W
 aho1UQkdTSlJJTDNPSzVMUFNKRkI1VU5CRktMQi4u&route=shorturl.Více informací 
 ke konferenci naleznete na webu MPO ČR. \n
URL:https://www.spcr.cz/konference-zemepisna-oznaceni-pod-taktovkou-eu
DTSTART:20250312T090000
DTEND:20250312T170000
LOCATION:
END:VEVENT
END:VCALENDAR
