BEGIN:VCALENDAR
PRODID:-//eluceo/ical//2.0/EN
VERSION:2.0
CALSCALE:GREGORIAN
BEGIN:VEVENT
UID:c6798312a2a7ff150c87b78a982425f5
DTSTAMP:20260423T150357Z
SUMMARY:Workshop: Příprava vodíkové intervence
DESCRIPTION:Název akce: Workshop: Příprava vodíkové intervence\nURL: h
 ttps://www.spcr.cz/workshop-priprava-vodikove-intervence\nPopis: \n\nRegio
 nální rozvojová agentura Plzeňského kraje Vás zve na workshop k té
 matu Příprava vodíkové intervence v Plzeňském kraji s metodou Design
  Thinking\, který se uskuteční v úterý 15. dubna 2025 od 09:00 hodin 
 přímo u nás v agentuře (Regionální rozvojová agentura Plzeňského 
 kraje\, o.p.s. Riegrova 206/1\, 301 00 Plzeň).\nNa programu budou aktivit
 y zaměřené na využití potenciálu a příležitostí\, které přiná
 šejí nové vodíkové technologie:● využití inovačního ekosystému
  Plzeňského kraje\,● identifikace oblastí pro možnou spolupráci mez
 i výzkumnými organizacemi a firmami např. aplikovaný výzkum\, vývoj\
 , expertízy a posudky\, grantové projekty\, vzdělávání\, rozvoj PR p
 ro vodíkové aktivity v Plzeňském kraji pomocí metody Design Thinking\
 ,● vyhodnocení výsledků a plánování dalších kroků pro rozvoj vo
 díkových technologií v Plzeňském kraji.Akce přidá také aktuální 
 informace o realizovaném projektu Smart Akcelerátor Plzeňského kraje a
  chybět nebude prostor pro networking i Vaše dotazy na zkušené odborn
 íky.Prosíme o potvrzení Vaší účasti do 31.3. na e-mail tikal@rra-pk
 .cz .\n
URL:https://www.spcr.cz/workshop-priprava-vodikove-intervence
DTSTART:20250415T090000
DTEND:20250415T123000
LOCATION:
END:VEVENT
END:VCALENDAR
