BEGIN:VCALENDAR
PRODID:-//eluceo/ical//2.0/EN
VERSION:2.0
CALSCALE:GREGORIAN
BEGIN:VEVENT
UID:b3f8859b566ffd4921802250642ce03e
DTSTAMP:20260423T163311Z
SUMMARY:Pozvánka na World Chambers Congress v Melbourne
DESCRIPTION:Název akce: Pozvánka na World Chambers Congress v Melbourne\n
 URL: https://www.spcr.cz/pozvanka-na-world-chambers-congress-v-melbourne\n
 Popis: \n\nDovolujeme si Vás pozvat na 14. ročník World  Chambers Cong
 ress (WCC)\, který se bude konat ve dnech 2.-4. září 2025 v australsk
 ém Melbourne. WCC je největším a jediným mezinárodním fórem\, kter
 é umožňuje vedoucím představitelům komor a profesionálům sdílet p
 ostupy\, vyměňovat si zkušenosti\, rozvíjet kontakty\, řešit problé
 my byznysu a dozvědět se o novinkách od komor z celého světa.Témat 1
 4. ročníku je „Podnikání\, komory\, vláda: Partnerství pro prosper
 itu“ a bude se zabývat tím\, jak může podpora spolupráce mezi byzny
 sem\, obchodními komorami a vládami podpořit hospodářský růst a pro
 speritu. Kongres\, který navštíví více než 1 000 podnikatelů\, pře
 dstavitelů komor a politických představitelů z více než 100 zemí\, 
 je ideální platformou pro propojení hlasů veřejného a soukromého se
 ktoru. Účastníci budou také diskutovat o potenciálu\, který předsta
 vují trendy v ekonomickém prostředí\, a o tom\, jak je můžeme využ
 ít pro společenský prospěch.Více informací a možnost registrace naj
 dete na webových stránkách https://wcc.iccwbo.org/.   \n
URL:https://www.spcr.cz/pozvanka-na-world-chambers-congress-v-melbourne
DTSTART:20250902T080000
DTEND:20250904T170000
LOCATION:
END:VEVENT
END:VCALENDAR
