BEGIN:VCALENDAR
PRODID:-//eluceo/ical//2.0/EN
VERSION:2.0
CALSCALE:GREGORIAN
BEGIN:VEVENT
UID:ed43a9984506c67eed89c9b2391dd67b
DTSTAMP:20260423T163303Z
SUMMARY:Veletrhy a konference jako obchodní příležitost: Praktický wor
 kshop od A do Z
DESCRIPTION:Název akce: Veletrhy a konference jako obchodní příležitos
 t: Praktický workshop od A do Z\nURL: https://www.spcr.cz/veletrhy-konfer
 ence-jako-obchodni-prilezitost-prakticky-workshop-od-do-z\nPopis: \n\nDovo
 lujeme si Vám předat pozvání agentury CzechTrade na workshop zaměřen
 ý na přípravu a efektivní využití veletrhů a konferencí pro růst 
 vašeho podnikání. Naučíte se\, jak strategicky plánovat svou účast
 \, sbírat kvalitní kontakty a proměnit je v konkrétní obchodní pří
 ležitosti. Workshop kombinuje praktická cvičení\, ukázky osvědčený
 ch postupů a tvorbu vlastních nástrojů\, které můžete okamžitě ap
 likovat ve své firmě.\nWorkshop je ideální pro exportéry\, malé a st
 řední podniky\, startupy a firmy\, které chtějí zefektivnit svou úč
 ast na veletrzích a konferencích a získat z těchto akcí konkrétní o
 bchodní výsledky.Více informací a možnost registrace zde.\n
URL:https://www.spcr.cz/veletrhy-konference-jako-obchodni-prilezitost-prakt
 icky-workshop-od-do-z
DTSTART:20250327T090000
DTEND:20250327T130000
LOCATION:
END:VEVENT
END:VCALENDAR
