BEGIN:VCALENDAR
PRODID:-//eluceo/ical//2.0/EN
VERSION:2.0
CALSCALE:GREGORIAN
BEGIN:VEVENT
UID:adad566126de1e467e2fc2e9d9f33253
DTSTAMP:20260423T173735Z
SUMMARY:Online seminář: Aktuální obchodní příležitosti ve Španěls
 ku
DESCRIPTION:Název akce: Online seminář: Aktuální obchodní příležit
 osti ve Španělsku\nURL: https://www.spcr.cz/online-seminar-aktualni-obch
 odni-prilezitosti-ve-spanelsku\nPopis: \n\nDovolujeme si Vám předat pozv
 ání agentury CzechTrade na seminář na obchodní příležitosti ve Š
 panělsku. Tento seminář je určen českým firmám\, které zvažují v
 stup na španělský trh\, nebo již působí na tomto perspektivním trhu
 . Účastníci získají praktické informace o obchodním prostředí\, a
 ktuálních trendech a kulturních specifikách Španělska. Ředitel zahr
 aniční kanceláře CzechTrade v Madridu představí aktuální exportní
  příležitosti pro české firmy\, včetně plánovaných veletrhů a da
 lších klíčových akcí\, které mohou firmám pomoci proniknout na šp
 anělský trh. Zvláštní pozornost bude věnována i možnostem prezenta
 ce českých firem v rámci oborových misí\, které mohou otevřít nov
 é příležitosti pro obchodní spolupráci a navazování kontaktů.\nV
 íce informací a možnost registrace zde.\n
URL:https://www.spcr.cz/online-seminar-aktualni-obchodni-prilezitosti-ve-sp
 anelsku
DTSTART:20250326T100000
DTEND:20250326T113000
LOCATION:
END:VEVENT
END:VCALENDAR
