BEGIN:VCALENDAR
PRODID:-//eluceo/ical//2.0/EN
VERSION:2.0
CALSCALE:GREGORIAN
BEGIN:VEVENT
UID:def9481232e18313e33ac80e82509481
DTSTAMP:20260423T131009Z
SUMMARY:Online seminář: Maroko - Exportní příležitosti pro české fi
 rmy v elektrotechnice
DESCRIPTION:Název akce: Online seminář: Maroko - Exportní příležitos
 ti pro české firmy v elektrotechnice\nURL: https://www.spcr.cz/online-se
 minar-maroko-exportni-prilezitosti-pro-ceske-firmy-v-elektrotechnice\nPopi
 s: \n\nDovolujeme si Vám předat pozvání agentury CzechTrade na seminá
 ř zaměřený na obchodní příležitosti v Maroku. Tento seminář je 
 určen českým firmám\, které působí v elektrotechnickém a energetic
 kém sektoru nebo zvažují vstup na marocký trh. Účastníci získají 
 přehled o aktuálních investičních projektech\, obchodním prostředí
  a možnostech spolupráce. Zvláštní pozornost bude věnována veletrhu
  ELEC Expo 2025\, kde bude Česká republika „Pays d’Honneur“ - host
 itelskou zemí veletrhu. Ředitel zahraniční kanceláře CzechTrade v Ra
 batu a zástupci Elektrotechnické asociace ČR představí konkrétní ex
 portní příležitosti\, klíčové trendy a strategie pro úspěšný vs
 tup na marocký trh.\nVíce informací a možnost registrace zde.\n
URL:https://www.spcr.cz/online-seminar-maroko-exportni-prilezitosti-pro-ces
 ke-firmy-v-elektrotechnice
DTSTART:20250325T100000
DTEND:20250325T120000
LOCATION:
END:VEVENT
END:VCALENDAR
