BEGIN:VCALENDAR
PRODID:-//eluceo/ical//2.0/EN
VERSION:2.0
CALSCALE:GREGORIAN
BEGIN:VEVENT
UID:642ed4ee84d88aa02fc86dd3a9249d04
DTSTAMP:20260423T163303Z
SUMMARY:Online seminář: Expanze do Maďarska - Zkušenosti a tipy pro ús
 pěšný start
DESCRIPTION:Název akce: Online seminář: Expanze do Maďarska - Zkušenos
 ti a tipy pro úspěšný start\nURL: https://www.spcr.cz/online-seminar-e
 xpanze-do-madarska-zkusenosti-tipy-pro-uspesny-start\nPopis: \n\nDovolujem
 e si Vám předat pozvání agentury CzechTrade na seminář\, který vá
 s provede klíčovými aspekty podnikání v Maďarsku\, našim honorárn
 ím sousedem. Maďarsko je ideální exportní destinací nejen díky jej
 í zeměpisné blízkosti\, ale i podobné rozloze\, počtu obyvatel a obc
 hodní kultuře.\nV první části semináře se dozvíte\, jaké jsou spe
 cifika místního trhu\, jaké jsou perspektivní obory a kde najdete obch
 odní příležitosti. V druhé části vám právnická kancelář Peterk
 a & Partners poskytne praktické tipy\, jaké jsou podobnosti a odlišnost
 i v právním prostředí\, jak založit zastoupení\, čemu se vyhnout a 
 co usnadní váš úspěch v tomto teritoriu. Třetí část semináře bu
 de věnována konkrétním zkušenostem společnosti Bidfood v Maďarsku\,
  s užitečnými tipy z první ruky na co se připravit\, když plánujete
  expanzi na zahraniční trh – zejména do Maďarska.\nVíce informací
  a možnost registrace zde.\n
URL:https://www.spcr.cz/online-seminar-expanze-do-madarska-zkusenosti-tipy-
 pro-uspesny-start
DTSTART:20250318T100000
DTEND:20250318T113000
LOCATION:
END:VEVENT
END:VCALENDAR
