BEGIN:VCALENDAR
PRODID:-//eluceo/ical//2.0/EN
VERSION:2.0
CALSCALE:GREGORIAN
BEGIN:VEVENT
UID:dafb2b36e353494b2b3a912501b5b608
DTSTAMP:20260423T163311Z
SUMMARY:Nové trhy pro české firmy: Jak uspět v Egyptě\, Jihoafrické r
 epublice a Turecku
DESCRIPTION:Název akce: Nové trhy pro české firmy: Jak uspět v Egyptě
 \, Jihoafrické republice a Turecku\nURL: https://www.spcr.cz/nove-trhy-pr
 o-ceske-firmy-jak-uspet-v-egypte-jihoafricke-republice-turecku\nPopis: \n\
 nDovolujeme si Vám předat pozvání agentury CzechTrade na seminář zam
 ěřený na aktuální exportní příležitosti a praktické aspekty obch
 odování v Egyptě\, Jihoafrické republice (JAR) a Turecku – dynamick
 ých trzích s významným potenciálem pro české exportéry. Seminář 
 nabídne klíčové informace o vývoji na těchto trzích\, strategii vst
 upu a užitečné rady pro úspěšnou expanzi.\nBěhem semináře získá
 te přehled o současné situaci na trzích Egypta\, JAR a Turecka\, včet
 ně specifických exportních příležitostí a možných překážek. Za
 měříme se na efektivní strategie vstupu\, optimální formy spoluprác
 e a praktické tipy pro vyhledávání obchodních partnerů. Dozvíte se
  o možných obchodních výzvách a vyslechnete si inspirativní příbě
 hy českých firem\, které na těchto trzích uspěly.\nNa závěr bude p
 rostor pro vaše dotazy a individuální konzultace s řediteli zahranič
 ních kanceláří CzechTrade z daných teritorií.\nVíce informací a mo
 žnost registrace zde.\n
URL:https://www.spcr.cz/nove-trhy-pro-ceske-firmy-jak-uspet-v-egypte-jihoaf
 ricke-republice-turecku
DTSTART:20250313T100000
DTEND:20250313T123000
LOCATION:
END:VEVENT
END:VCALENDAR
