BEGIN:VCALENDAR
PRODID:-//eluceo/ical//2.0/EN
VERSION:2.0
CALSCALE:GREGORIAN
BEGIN:VEVENT
UID:112fc1ce34de118b7f85b13918da2be0
DTSTAMP:20260423T130943Z
SUMMARY:Dvě země\, jeden trh: Jak uspět v Mexiku a USA?
DESCRIPTION:Název akce: Dvě země\, jeden trh: Jak uspět v Mexiku a USA?
 \nURL: https://www.spcr.cz/dve-zeme-jeden-trh-jak-uspet-v-mexiku-usa\nPopi
 s: \n\nDovolujeme si Vám předat pozvání agentury CzechTrade na seminá
 ř zaměřený na klíčové aspekty obchodování s USA a Mexikem – dv
 ěma významnými trhy nabízejícími řadu příležitostí pro české 
 exportéry. Seminář vám poskytne cenné informace o aktuálním vývoji
  v obchodních vztazích\, klíčových bodech dohody USMCA a praktických
  aspektech expanze na tyto trhy.\nV průběhu semináře se dozvíte aktu
 ální informace o obchodních vztazích mezi Českou republikou\, USA a M
 exikem\, a také o klíčových bodech dohody USMCA (Kanada–USA–Mexiko
 )\, která ovlivňuje obchodní prostředí v regionu. Zaměříme se na p
 raktické zkušenosti s expanzí do těchto zemí\, včetně odlišností 
 a podobností obou trhů\, nejčastějších překážek a efektivních st
 rategií vstupu – od spolupráce s místními distributory\, přes zalo
 žení vlastního zastoupení\, až po akvizice místních firem.\nVíce i
 nformací a možnost registrace zde.\n
URL:https://www.spcr.cz/dve-zeme-jeden-trh-jak-uspet-v-mexiku-usa
DTSTART:20250311T100000
DTEND:20250311T123000
LOCATION:
END:VEVENT
END:VCALENDAR
