BEGIN:VCALENDAR
PRODID:-//eluceo/ical//2.0/EN
VERSION:2.0
CALSCALE:GREGORIAN
BEGIN:VEVENT
UID:7cd53a3c2561002d8b2fe27c14b44eee
DTSTAMP:20260423T150358Z
SUMMARY:ASEAN s českými technologiemi - Řešení pro budoucnost
DESCRIPTION:Název akce: ASEAN s českými technologiemi - Řešení pro bu
 doucnost\nURL: https://www.spcr.cz/asean-s-ceskymi-technologiemi-reseni-pr
 o-budoucnost\nPopis: \n\nDovolujeme si Vám předat pozvání agentury Cze
 chTrade na konferenci věnovanou obchodním možnostem v zemích ASEAN. B
 ěhem akce nahlédnete do místního obchodního prostředí a zjistíte\,
  jaké příležitosti tento dynamicky se rozvíjející trh nabízí čes
 kým exportérům. Dozvíte se praktické rady\, tipy a strategie\, jak u
 spět na místních trzích. Budou vám představeny oblasti\, kde mohou 
 české technologie přinést největší přidanou hodnotu\, a to od kybe
 rnetické bezpečnosti\, průmyslového designu až po inovace zaměřené
  na udržitelnost a ochranu životního prostředí.Více informací a mo
 žnost registrace zde.\n
URL:https://www.spcr.cz/asean-s-ceskymi-technologiemi-reseni-pro-budoucnost
DTSTART:20250310T130000
DTEND:20250310T163000
LOCATION:
END:VEVENT
END:VCALENDAR
