BEGIN:VCALENDAR
PRODID:-//eluceo/ical//2.0/EN
VERSION:2.0
CALSCALE:GREGORIAN
BEGIN:VEVENT
UID:312ce75df051e4c3998cdbc034aec63a
DTSTAMP:20260423T150357Z
SUMMARY:Design inkubátor Londýn: Exportní příležitosti v srdci kreati
 vního Londýna
DESCRIPTION:Název akce: Design inkubátor Londýn: Exportní příležitos
 ti v srdci kreativního Londýna\nURL: https://www.spcr.cz/design-inkubato
 r-londyn-exportni-prilezitosti-v-srdci-kreativniho-londyna\nPopis: \n\nDov
 olujeme si Vám předat pozvání agentury CzechTrade na seminář\, kter
 ý je zaměřen na představení klíčového projektu ve Spojeném králo
 vství „Design inkubátor Londýn“. V rámci projektu vznikne showro
 om v londýnské čtvrti Clerkenwell\, proslulé koncentrací kreativníc
 h firem a architektů\, což z něj dělá skutečně jedno z nejdůležit
 ějších designových center na světě. \nSoučástí semináře bude o
 dborný pohled na celý projekt\, který zastřešuje Design Centrum Czec
 hTrade. Budete mít možnost vyslechnout si zkušenosti přímo od zástup
 ců firem\, které v UK již působí a jsou do projektu Design inkubáto
 r Londýn již zapojení.\nVíce informací a možnost registrace zde. \n
  \n
URL:https://www.spcr.cz/design-inkubator-londyn-exportni-prilezitosti-v-srd
 ci-kreativniho-londyna
DTSTART:20250306T133000
DTEND:20250306T160000
LOCATION:
END:VEVENT
END:VCALENDAR
