BEGIN:VCALENDAR
PRODID:-//eluceo/ical//2.0/EN
VERSION:2.0
CALSCALE:GREGORIAN
BEGIN:VEVENT
UID:9306b425ea47780972de8797f3d5d760
DTSTAMP:20260423T163303Z
SUMMARY:B2B Meeting s ukrajinskými firmami v oblasti potravinářství\, d
 řevozpracovatelství\, nábytkářství\, textilního a šicího průmysl
 u
DESCRIPTION:Název akce: B2B Meeting s ukrajinskými firmami v oblasti potr
 avinářství\, dřevozpracovatelství\, nábytkářství\, textilního a 
 šicího průmyslu\nURL: https://www.spcr.cz/b2b-meeting-s-ukrajinskymi-fi
 rmami-v-oblasti-potravinarstvi-drevozpracovatelstvi-nabytkarstvi\nPopis: \
 n\nMinisterstvo průmyslu a obchodu ČR ve spolupráci se Svazem průmyslu
  a dopravy ČR vas zve B2B setkání s ukrajinskými firmami v oblasti po
 travinářství\, dřevozpracovatelství\, nábytkářství\, textilního 
 a šicího průmyslu.\nPozvánku a seznam firem z ukrajinské strany uvád
 íme níže.\nPro účast je potřebná registrace předem (RSVP) - proto 
 se prosím v případě zájmu registrujte předem.\nPozvánka.docx\nThe_l
 ist_of_companies_present_at_the_B2B_Meeting_on_March_5.docx\n
URL:https://www.spcr.cz/b2b-meeting-s-ukrajinskymi-firmami-v-oblasti-potrav
 inarstvi-drevozpracovatelstvi-nabytkarstvi
DTSTART:20250305T140000
DTEND:20250305T160000
LOCATION:
END:VEVENT
END:VCALENDAR
