BEGIN:VCALENDAR
PRODID:-//eluceo/ical//2.0/EN
VERSION:2.0
CALSCALE:GREGORIAN
BEGIN:VEVENT
UID:cba141567b98f325d2d318db749bccc2
DTSTAMP:20260423T163311Z
SUMMARY:SMART A FUNKČNÍ TEXTILIE: materiály pro moderní svět
DESCRIPTION:Název akce: SMART A FUNKČNÍ TEXTILIE: materiály pro modern
 í svět\nURL: https://www.spcr.cz/smart-funkcni-textilie-materialy-pro-mo
 derni-svet\nPopis: \n\nZveme vás na již tradiční setkání příznivc
 ů textilního průmyslu\, tentokrát v Ústí nad Orlicí.\nSejdeme v 9
  hodin v Ústí nad Orlicí 12. 3. 2025 v Hotelu UNO\, kde se uskut
 eční setkání a po obědě bude pro zájemce připravena od 13 do 14 ho
 din exkurze do VÚB.\nTéma bude SMART A FUNKČNÍ TEXTILIE: materiály 
 pro moderní svět. Podrobnosti naleznete v pozvánce.\nAkce je zdarma p
 o předchozí registraci.\n
URL:https://www.spcr.cz/smart-funkcni-textilie-materialy-pro-moderni-svet
DTSTART:20250312T090000
DTEND:20250312T140000
LOCATION:
END:VEVENT
END:VCALENDAR
