BEGIN:VCALENDAR
PRODID:-//eluceo/ical//2.0/EN
VERSION:2.0
CALSCALE:GREGORIAN
BEGIN:VEVENT
UID:6a9423b65b4afbb057c5482b79d36a99
DTSTAMP:20260423T145021Z
SUMMARY:Česko na křižovatce 3
DESCRIPTION:Název akce: Česko na křižovatce 3\nURL: https://www.spcr.cz
 /cesko-na-krizovatce-3\nPopis: \n\nZúčastněte se konference za účasti
  předsedy vlády České republiky Petra Fialy a ministrů. Diskutujte s 
 námi o vizi a strategii.Česko potřebuje novou vizi a strategii\, jak z
 ůstat a dlouhodobě patřit mezi nejúspěšnějšími státy v Evropě i
  na světě. Je naší povinností takovou vizi a strategii společně s p
 ředstaviteli státu a s dalšími podnikatelskými\, zaměstnavatelskými
 \, ale i odborovými organizacemi připravit\, prosadit a začít realizov
 at.Proto se Svaz průmyslu a dopravy ČR a další podnikatelské a zaměs
 tnavatelské organizace a podnikatelské iniciativy spojily\, aby upozorni
 ly na dlouhodobé problémy\, které brzdí českou ekonomiku\, aby spole
 čně identifikovaly hrozby a příležitosti\, které před námi stojí.
  Spojili jsme síly\, abychom deklarovali společnou a jednoznačnou vůli
  pomoci Česku zpátky na vrchol. Podnikatelům jednoduše na budoucnosti 
 Česka záleží.Více informací na webu akce. \n
URL:https://www.spcr.cz/cesko-na-krizovatce-3
DTSTART:20250415T080000
DTEND:20250415T235900
LOCATION:
END:VEVENT
END:VCALENDAR
