BEGIN:VCALENDAR
PRODID:-//eluceo/ical//2.0/EN
VERSION:2.0
CALSCALE:GREGORIAN
BEGIN:VEVENT
UID:6240a653376316112085f726085bb162
DTSTAMP:20260423T125336Z
SUMMARY:Podnikatelská mise do Afriky
DESCRIPTION:Název akce: Podnikatelská mise do Afriky\nURL: https://www.sp
 cr.cz/podnikatelska-mise-do-afriky\nPopis: \n\nSvaz průmyslu a dopravy Č
 R (SP ČR) si Vás dovoluje informovat o možnosti účasti v podnikatels
 ké delegaci doprovázející vysokého ústavního činitele na jeho ofic
 iální pracovní cestě do Mauritánie\, Ghany a Namibie. Návštěva pos
 lední jmenované země není v tuto chvíli definitivně potvrzena. Podn
 ikatelská mise se předběžně uskuteční v termínu 6.-13. dubna 202
 5 a za Svaz průmyslu a dopravy ČR ji povede viceprezident Radek Špica
 r.\n\nDelegace během cesty navštíví hlavní města – Nuakšott v Ma
 uritánii\, Akkru v Ghaně a Windhoek v Namibii. Na programu budou podni
 katelská fóra\, B2B/B2G networking a další doprovodné programy v nav
 štívených lokalitách\, které umožní prohloubení a navázání kont
 aktů s místním podnikatelským prostředím.\nÚčast v této podnika
 telské misi je určena pro firmy a organizace\, které již v teritoriu
  investice a aktivity mají\, nebo začínají nové konkrétní projekty
 . Mise ve vyjmenovaných zemích bude zaměřena na následující sektor
 y: Mauritánie - obrana\, zdravotnictví\, dopravní infrastruktura a geo
 logický průzkum\; Ghana - zemědělství\, obrana\, zdravotnictví a vod
 ohospodářství\; Namibie – energetika\, dopravní infrastruktura obran
 a a zdravotnictví. Vítáni jsou také zástupci akademické sféry.\nZá
 lohová cena za účast v podnikatelské delegaci je 150.000\,- Kč včet
 ně DPH pro nečleny a 125.000\,- Kč včetně DPH pro členy SP ČR. Ob
 sah účastnického balíčku je rozepsán v přihlášce.\nV případě z
 ájmu o účast Vás prosíme o následující:\n\nZaslání vyplněné\, 
 podepsané a naskenované závazné přihlášky.\nVyplnění elektronick
 ého registračního formuláře\, který obsahuje informace nezbytné pr
 o Vaše uvedení v katalogu podnikatelské mise\, vyhledání vhodných pa
 rtnerů pro B2B networking\, ale i pro odbavení v letadle vládní letky 
 či ubytování v hotelu.\nZaslání skenu datové stránky vašeho pasu
  (platnost pasu min. 6 měsíců po návratu zpět do ČR).\nVyplnění j
 ednoho vzorového snímku v powerpointu do společné prezentace\, kter
 á může být promítána v rámci networkingových akcí.\nZaslání pro
 filové fotografie účastníka do připraveného katalogu firem (min. r
 ozlišení 500 Kb\, 600 x 800 pixelů).\nZaslání loga společnosti (orga
 nizace) do tištěného katalogu firem (nejlépe v křivkách či kvalitě
  vhodné pro tisk).\nDokumenty zašlete na e-mail mnatafalusi@spcr.cz ne
 jpozději do 28. února 2025 do 18:00 hod.\nPři vyplňování profilu m
 ějte prosím na paměti\, že slouží jako podklad pro výběr místníc
 h firem a partnerů pro networking a také pro výrobu prezentačního ti
 štěného katalogu mise\, který budeme připravovat v angličtině a fr
 ancouzštině a jehož cílem je co nejlépe druhou stranu seznámit s pro
 fily a kontaktními údaji zúčastněných firem. Prosíme proto o co nej
 konkrétnější upřesnění Vašich zájmů.\nUpozorňujeme\, že bez vy
 plnění elektronického formuláře nemůžeme Vaši přihlášku zpracov
 at. Výběr místních firem a partnerů pro networking bude probíhat na
  základě Vámi dodaných profilů a informací o Vaší firmě v tomto e
 lektronickém formuláři. Prosíme proto o co nejkonkrétnější upřesn
 ění Vašich zájmů.\nDalší pokyny Vám sdělíme po obdržení Vaší
  závazné přihlášky a provedení elektronické registrace. Informace V
 ám budeme průběžně zasílat elektronickou poštou\, včetně zálohov
 é faktury na účastnický poplatek pro firmy zařazené do podnikatelsk
 é delegace. \nVzhledem k omezené kapacitě prosíme o včasnou registra
 ci. Pořadatelé si vyhrazují právo odmítnout zájemce o účast s ohle
 dem na vhodnost oborového zaměření a v případě převisu poptávky n
 ad počtem míst v letadle. Děkujeme za pochopení. \nPodnikatelskou mis
 i organizačně zajišťuje manažer Sekce vnějších vztahů Martin Nat
 afaluši (email: mnatafalusi@spcr.cz\, tel. 733 643 556). V případě
  jakýchkoliv dotazů nás neváhejte kontaktovat.\nTěšíme se na Vaši 
 účast.\n  \nVíce o navštívených teritoriích a obchodních příle
 žitostech v nich najdete pod odkazy níže:\nBusinessInfo – Mauritáni
 e\nBusinessInfo – Ghana\nBusinessInfo – Namibie\n
URL:https://www.spcr.cz/podnikatelska-mise-do-afriky
DTSTART:20250406T080000
DTEND:20250413T170000
LOCATION:
END:VEVENT
END:VCALENDAR
