BEGIN:VCALENDAR
PRODID:-//eluceo/ical//2.0/EN
VERSION:2.0
CALSCALE:GREGORIAN
BEGIN:VEVENT
UID:41309ed4b6680c303318727b1633f1f1
DTSTAMP:20260423T163311Z
SUMMARY:Dětský den na Pražském hradě
DESCRIPTION:Název akce: Dětský den na Pražském hradě\nURL: https://ww
 w.spcr.cz/detsky-den-na-prazskem-hrade\nPopis: \nDětský den na Pražské
 m hradě v sobotu 24. května 2025 obsáhne snad všechno\, co k pořádn
 ému dětskému dni patří.  \n Dětský den na Pražském hradě v so
 botu 24. května 2025 obsáhne snad všechno\, co k pořádnému dětském
 u dni patří - od středověkých šermířů a kejklířů přes obživl
 ého Rudolfa II. až po ochranku prezidenta. Nezbytností je také divadel
 ní představení s pohádkou a opékání buřtíků. Průvodkyní po ar
 eálu Královské zahrady a Jeleního příkopu bude kreslená kočka Mick
 a\, se kterou mohou děti postupně plnit úkoly. V Jelením příkopě bu
 de navíc hlídkovat Hradní stráž\, která na rozdíl od služby na ná
 městí před Hradem\, bude moci s dětmi mluvit a něco jim předvést. 
 Vstup na Dětský den\, jak do Královské zahrady\, tak i do Jeleního p
 říkopu\, bude zdarma a všechny přístupové cesty budou otevřeny. Dě
 tský den se koná pod záštitou manželky prezidenta Evy Pavlové.Dalš
 í podrobnosti zobrazíte klikem na obrázek. \n
URL:https://www.spcr.cz/detsky-den-na-prazskem-hrade
DTSTART:20250524T100000
DTEND:20250524T170000
LOCATION:Královská zahrada a Jelení příkop
END:VEVENT
END:VCALENDAR
