BEGIN:VCALENDAR
PRODID:-//eluceo/ical//2.0/EN
VERSION:2.0
CALSCALE:GREGORIAN
BEGIN:VEVENT
UID:80d405b50e5360ed3436adbf9d5ad975
DTSTAMP:20260423T125335Z
SUMMARY:B2B Ukraine Global
DESCRIPTION:Název akce: B2B Ukraine Global\nURL: https://www.spcr.cz/b2b-u
 kraine-global\nPopis: \nSvaz průmyslu a dopravy ČR si vás dovoluje info
 rmovat\, že ve dnech 23.-24. dubna 2025 se bude na online platformě kona
 t B2B konference B2B Ukraine Global věnovaná sektorů dopravy\, strojír
 enství a potravinářství. Tato akce kromě konferenční části nabíz
 í zejména možnosti najít ukrajinské partnery\, odběratele nebo distr
 ibutory. Akce je určena pro ukrajinské a české firmy\, které chtějí
  navázat partnerství\, najít nové trhy a rozšířit síť svých obch
 odních kontaktů. \nPodnikatelské fórum - odborné diskuse o aktuáln
 ích tržních trendech\, možnostech spolupráce a ekonomických perspekt
 ivách České republiky a Ukrajiny.B2B schůzky - individuální jednán
 í pro firmy\, které hledají nové partnery v různých odvětvích.Prez
 entace firem - seznámení s lídry trhu a jejich nabídkami. Termíny ko
 nání: 23.-24. dubna 2025Začátek: 9:00 hod.\, sjednaná B2B setkání p
 o celé dva dnyFormát: OnlineOrganizátoři: ICC Ukrajina\, Ministerstvo 
 průmyslu a obchodu ČR\, Svaz průmyslu a dopravy ČR\, Hospodářská ko
 mora ČR\, Ukrcham\, FederCamere\, Italská obchodní a průmyslová komor
 a na Ukrajině.Co vás čeká?Panelové diskuse s řečníky.Interaktivní
  online formát\, který usnadňuje setkávání a komunikaci.Přímý př
 ístup k potenciálním partnerům.Nenechte si ujít příležitost rozš
 ířit své obchodní obzory!Zaregistrujte se nyní a rezervujte si B2B sc
 hůzky!Registrace: https://b2bitalia.org/register\n
URL:https://www.spcr.cz/b2b-ukraine-global
DTSTART:20250423T090000
DTEND:20250424T150000
LOCATION:Praha
END:VEVENT
END:VCALENDAR
