BEGIN:VCALENDAR
PRODID:-//eluceo/ical//2.0/EN
VERSION:2.0
CALSCALE:GREGORIAN
BEGIN:VEVENT
UID:8b4b5c70ed20d7c08327fdf30720c047
DTSTAMP:20260423T125014Z
SUMMARY:Green Development in China
DESCRIPTION:Název akce: Green Development in China\nURL: https://www.spcr.
 cz/green-development-china\nPopis: \nČínské centrum pro evropské malé
  a střední podniky zve na tematický workshop s názvem Green Developmen
 t in China: Opportunities and Challenges for European SMEs. \nČínské c
 entrum pro evropské malé a střední podniky zve na tematický workshop 
 s názvem Green Development in China: Opportunities and Challenges for Eur
 opean SMEs. Má přinést hlubší porozumění čínskému sektoru vývoj
 e udržitelných technologií. Nabízí cenné rady ohledně regulatorníh
 o rámce a možností uplatnění malých a středních firem. Po letech\
 , kdy dostával ekonomický růst v Číně přednost před životním pro
 středím\, má nyní země ambiciózní plán stát se světovým lídrem
  v oblasti udržitelných technologií. Tato transformace může přinést
  evropským malým a středním podnikům četné nové příležitosti v 
 sektorech udržitelné energie\, zelených technologií\, poradenství neb
 o projektů ESG. Semináře je možné zúčastnit se také online. Koná
  se v 10:00 – 11:30 bruselského času / 16:00 – 17:30 pekingského. 
 Registrace na workshop \n
URL:https://www.spcr.cz/green-development-china
DTSTART:20250424T100000
DTEND:20250424T113000
LOCATION:Shenzhen
END:VEVENT
END:VCALENDAR
