BEGIN:VCALENDAR
PRODID:-//eluceo/ical//2.0/EN
VERSION:2.0
CALSCALE:GREGORIAN
BEGIN:VEVENT
UID:97cb5fe62b8c1874b62e45c75abceded
DTSTAMP:20260423T163303Z
SUMMARY:Česko-novozélandské business fórum 
DESCRIPTION:Název akce: Česko-novozélandské business fórum \nURL: http
 s://www.spcr.cz/cesko-novozelandske-business-forum\nPopis: \n\nSvaz průmy
 slu a dopravy ČR si Vás dovoluje pozvat na podnikatelské fórum pořád
 ané u příležitosti návštěvy podnikatelské delegace z Nového Zéla
 ndu. Akce se bude konat dne 30. května od 13:30 do 16:30 v hotelu Mariott
 \, V Celnici 8\, Praha 1.V úvodu akce vystoupí prezident Svazu průmyslu
  a dopravy ČR Jan Rafaj\, předseda Auckland Business Chamber Simon Bridg
 es\, vrchní ředitel sekce Evropské unie a zahraničního obchodu Minist
 erstva průmyslu a obchodu ČR David Müller a další hosté. Hlavní č
 ástí programu bude networking a B2B jednání s novozélandskými firmam
 i\, které působí v následujících sektorech:obrana\, aerospaceIT\, k
 yberbezpečnost\, AIenergetika\, infrastrukturazdraví\, wellness a přír
 odní kosmetikafinance\, investice a poradenstvístavebnictví\, interiér
 ový designtextil a technické materiálypotravinářství\, zemědělstv
 íturismus\, vinařství Seznam a profily novozélandských účastníků
  naleznete níže. Účast je bezplatná\, registrace je však nutná nej
 později do 27. května. ▶︎ Registrovat se můžete na odkazu ZDE\n
URL:https://www.spcr.cz/cesko-novozelandske-business-forum
DTSTART:20250530T133000
DTEND:20250530T163000
LOCATION:hotel Marriott\, V Celnici 8\, Praha 1
END:VEVENT
END:VCALENDAR
