BEGIN:VCALENDAR
PRODID:-//eluceo/ical//2.0/EN
VERSION:2.0
CALSCALE:GREGORIAN
BEGIN:VEVENT
UID:bc06cbd5e55bb3bde0077a6165bd1a70
DTSTAMP:20260423T125756Z
SUMMARY:Webinář: Dotace z OP TAK - služby pro startupy
DESCRIPTION:Název akce: Webinář: Dotace z OP TAK - služby pro startupy\
 nURL: https://www.spcr.cz/webinar-dotace-z-op-tak-sluzby-pro-startupy\nPop
 is: \nAgentura pro podnikání a inovace zve na bezplatný online seminá
 ř k nedávno otevřené výzvě Marketing – Odborné služby pro start-
 upy – výzva I. \n Agentura pro podnikání a inovace (API) zve na bez
 platný online seminář k nedávno otevřené dotační výzvě Marketing
  – Odborné služby pro start-upy – výzva I. Webinář představí j
 ejí podmínky a seznámí účastníky s podáním žádosti o podporu v 
 systému ISKP21+. Prostor bude i pro individuální dotazy\, které budou 
 zodpovídat samotní hodnotitelé. Program webináře 10:00 – 10:30 P
 ředstavení výzvy10:30 – 11:00 Jak podat žádost v ISKP21+11:00 – 1
 1:30 DiskuzeKontaktIng. Hana RozkopalováAgentura pro podnikání a inovac
 e+420 722 983 408hana.rozkopalova@apiagentura.gov.cz Registrovat se na we
 binář Marketing – Odborné služby pro start-upy – výzva ICílem a
 ktuální výzvy je podpora startupů v rozvoji podnikání a zvýšení k
 vality a efektivity jejich výroby a služeb. Týká se projektů v hodnot
 ě od 500 tisíc do 4\,9 milionu korun\, přičemž nabízí pokrytí 50 %
  celkových způsobilých výdajů. Podrobné informace o výzvě nalezne
 te zde.  \n
URL:https://www.spcr.cz/webinar-dotace-z-op-tak-sluzby-pro-startupy
DTSTART:20250506T100000
DTEND:20250506T113000
LOCATION:
END:VEVENT
END:VCALENDAR
