BEGIN:VCALENDAR
PRODID:-//eluceo/ical//2.0/EN
VERSION:2.0
CALSCALE:GREGORIAN
BEGIN:VEVENT
UID:01a4e7b4f52d5754e7b98e83e1617ffc
DTSTAMP:20260423T150422Z
SUMMARY:Česko-nizozemské business fórum  
DESCRIPTION:Název akce: Česko-nizozemské business fórum  \nURL: https:/
 /www.spcr.cz/cesko-nizozemske-business-forum\nPopis: \n\nSvaz průmyslu a 
 dopravy ČR ve spolupráci s Velvyslanectvím Nizozemska v Praze si vás d
 ovolují pozvat na business fórum pořádané u příležitosti státní 
 návštěvy nizozemského královského páru. Business fórum se bude kon
 at 5. června 2025 od 11:00 do 15:00 v HiLASE & ELI Beamlines\, Za Radnic
 í 835\, 25241 Dolní Břežany.Akce je zaměřená na posílení ekonomic
 ké spolupráce a podporu obchodních příležitostí mezi oběma zeměmi
 . Na programu bude\, kromě podnikatelského fóra\, také podpis memorand
 \, strategické panelové diskuse věnované tématům jako smart industry
  a inovace\, energetika\, čistá mobilita\, udržitelnost a cirkulární 
 ekonomika. Součástí bude také networking a možnost zúčastnit se\, v
  případě zájmu\, prohlídky lokality.Účast na akci je zdarma\, je v
 šak podmíněna registrací na tomto odkazu nejpozději do 23. května 20
 25. Detailní program akce obdrží zaregistrovaní účastníci před sam
 otnou akcí. Finální potvrzení účasti podléhá schválení organizá
 torem. Za společnost se může zúčastnit více osob\, pokud je firma ak
 tivní ve více oborech. Jinak je účast omezena na jednu osobu za spole
 čnost. Prosíme\, vyčkejte na potvrzení registrace ze strany organizát
 orů.\n
URL:https://www.spcr.cz/cesko-nizozemske-business-forum
DTSTART:20250605T110000
DTEND:20250605T150000
LOCATION:Praha
END:VEVENT
END:VCALENDAR
