BEGIN:VCALENDAR
PRODID:-//eluceo/ical//2.0/EN
VERSION:2.0
CALSCALE:GREGORIAN
BEGIN:VEVENT
UID:c1768d14d51a6414c492ce00f1866768
DTSTAMP:20260423T130943Z
SUMMARY:Kulatý stůl SP ČR k možnostem rozšíření CBAM
DESCRIPTION:Název akce: Kulatý stůl SP ČR k možnostem rozšíření CB
 AM\nURL: https://www.spcr.cz/kulaty-stul-sp-cr-k-moznostem-rozsireni-cbam\
 nPopis: \n\nNa konci února představila Evropská komise návrh sady admi
 nistrativních zjednodušení mechanismu uhlíkového vyrovnání na hrani
 cích (CBAM). Mění se mj. hranice z dosavadního osvobození pro zásilk
 y do hodnoty 150 EUR na hmotnostní limit dovozů 50 tun. Posouvá se i ř
 ada termínů.SP ČR na základě závěrů z posledních jednání s V
 ámi k tématu CBAM prosazuje a podporuje (v jednání s resorty\, v po
 zicích k návrhům EK apod.) administrativní zjednodušení\, ale vzná
 ší i požadavky s ohledem na funkčnost mechanismu jako takového (bezp
 latný příděl povolenek pro ohrožené sektory\, nevyřazování povole
 nek za export).V mezičase Komise plánuje vyhodnocení CBAM\, kdy má v d
 ruhé polovině letošního roku zveřejnit komplexní přezkum CBAM hodno
 tící proveditelnost rozšíření CBAM na další odvětví a na navazuj
 ící výrobky. Zabývat se má i možností zahrnout nepřímé emise a n
 avrhnout řešení otázky exportu\, kdy má postupně končit bezplatný 
 přiděl povolenek. Navazující legislativní návrh by měl vzniknout na
  začátku roku 2026.Pozice SP ČR respektuje rozdílné názory členů a
  je proti plošnému rozšíření CBAM bez konzultace s jednotlivými sek
 tory.Pro konstruktivní vstupy SP ČR do diskuze s ministerstvy a dalším
 i stakeholdery pořádá SP ČR společné jednání pracovních skupin fo
 rmou kulatého stolu\, kde budou mít členové prostor pro vzájemné poc
 hopení svých pozic a hledání možných kompromisů mezi ochranou domá
 cí produkce a konkurenceschopností produkce odběratelských sektorů. T
 o vše v situaci zavádění celních opatření ze strany USA a reciproč
 ních opatření dalších států.REGISTRACENa jednání se prosím přih
 laste prostřednictvím formuláře na konci stránky nejpozději do 22. k
 větna 2025. Pro fyzickou účast je omezena kapacita\, po jejím překro
 čení bude možnost účasti pouze online.V případě dotazů se prosím
  obraťte na Tomáše Trubačíka\, manažera pro Green Deal SP ČR (ttrub
 acik@spcr.cz nebo na tel. +420 778 717 564). Ke kulatému stolu vás Svaz
  průmyslu a dopravy ČR zve v rámci projektu „Podpora národního\, o
 dvětvového a regionálního sociálního dialogu v ČR“. \n
URL:https://www.spcr.cz/kulaty-stul-sp-cr-k-moznostem-rozsireni-cbam
DTSTART:20250529T100000
DTEND:20250529T120000
LOCATION:Svaz průmyslu a dopravy ČR
END:VEVENT
END:VCALENDAR
