BEGIN:VCALENDAR
PRODID:-//eluceo/ical//2.0/EN
VERSION:2.0
CALSCALE:GREGORIAN
BEGIN:VEVENT
UID:3244fed79baaebaa4cdae7f7e126282d
DTSTAMP:20260422T114613Z
SUMMARY:Investování v Egyptě - webinář
DESCRIPTION:Název akce: Investování v Egyptě - webinář\nURL: https://
 www.spcr.cz/investovani-v-egypte-webinar\nPopis: \nVelvyslanectví České
  republiky v Káhiře si Vás dovoluje pozvat na webinář zaměřený na 
 investování v Egyptě. \nVelvyslanectví České republiky v Káhiře s
 i Vás dovoluje pozvat na webinář zaměřený na investování v Egyptě
 \, který se uskuteční v úterý 13. května 2025 od 10:00 hodin (SELČ)
  prostřednictvím platformy MS Teams.Účastníkům webinář umožní z
 ískat širší povědomí o investičních příležitostech v zemi\, sez
 námit se s náležitostmi daňového systému i duševního vlastnictví 
 a vyslechnout praktické zkušenosti českého investora\, který již v E
 gyptě dlouhodobě působí.Webinář je pořádán Velvyslanectvím ČR v
  Káhiře ve spolupráci s kanceláří CzechTrade v Káhiře a společnos
 tmi Legal Crises Consultants\, Fathalla & Co. a PFNonwovens.Předběžný 
 program webináře:Úvodní slovo Ivan Jukl\, velvyslanec\; Ondřej Cuch
 ý\, ekonomický diplomat Velvyslanectví ČR v Káhiře\; Tomáš Rousek\
 , ředitel kanceláře CzechTrade v KáhiřeInvestiční prostředí v Egy
 ptě a problematika duševního vlastnictví Ahmed Saíd\, majitel\, prá
 vnická kancelář Legal Crises ConsultantsDaňový systém Egypta a zvýh
 odnění pro investory Mohamed Fathalla\, generální ředitel\, účetn
 í a poradenská společnost Fathalla & Co.Výroba v Egyptě pohledem čes
 kého investora Tomáš Budňák\, generální ředitel pro Egypt\, výro
 bce netkaných textilií PFNonwovensProstor pro diskusi a dotazy účastn
 íků webinářePředpokládaná doba trvání webináře je 2 hodiny.V p
 řípadě zájmu o účast na webináři prosíme o potvrzení účasti ne
 jpozději do 7. května 2025 na e-mailovou adresu: cairo.commerce@mzv.gov.
 cz. Potvrzeným účastníkům následně zašleme odkaz k připojení na 
 webinář.\n
URL:https://www.spcr.cz/investovani-v-egypte-webinar
DTSTART:20250513T100000
DTEND:20250513T120000
LOCATION:
END:VEVENT
END:VCALENDAR
