BEGIN:VCALENDAR
PRODID:-//eluceo/ical//2.0/EN
VERSION:2.0
CALSCALE:GREGORIAN
BEGIN:VEVENT
UID:70388e793d5273cb9714b5dadd3ae94c
DTSTAMP:20260422T094429Z
SUMMARY:Securing Your Brand in China - webinář
DESCRIPTION:Název akce: Securing Your Brand in China - webinář\nURL: htt
 ps://www.spcr.cz/securing-your-brand-china-webinar\nPopis: \nTrademark Pro
 tection Tips and Legal Updates\nThis free webinar is open to all EU SMEs a
 nd SMEs from countries participating in the Single Market Programme.With o
 ver 1.4 billion consumers\, China offers immense opportunities\, but also 
 presents unique challenges\, particularly in protecting your brand. Securi
 ng your brand in China goes beyond just registering a trademark\; it invol
 ves navigating a complex legal landscape\, understanding cultural differen
 ces\, and staying tuned of regulatory changes. The importance of proactive
  trademark protection cannot be overstated here\, given the country's firs
 t-to-file system\, which has left many SMEs facing significant hurdles whe
 n their trademarks are hijacked by local entities.In this presentation\, t
 he IP Business Advisor from the China IP SME Helpdesk will explore key tip
 s for effectively securing your brand within China\, discuss recent legal 
 updates affecting trademark protection\, and share strategies for protecti
 ng your trademark rights against infringement. You will learn from several
  real case studies from European SMEs.Before and after the presentation\, 
 there will be a short quiz to assess the impact of the seminar. The quiz i
 s anonymous.Book your seatRegistration will end on Tuesday 13 May 2025\, 0
 9:00 (CEST) \n
URL:https://www.spcr.cz/securing-your-brand-china-webinar
DTSTART:20250513T100000
DTEND:20250513T113000
LOCATION:
END:VEVENT
END:VCALENDAR
