BEGIN:VCALENDAR
PRODID:-//eluceo/ical//2.0/EN
VERSION:2.0
CALSCALE:GREGORIAN
BEGIN:VEVENT
UID:3a921236090ef10715cd1558cf4266c9
DTSTAMP:20260423T163311Z
SUMMARY:Rozjeď AI ve výrobě
DESCRIPTION:Název akce: Rozjeď AI ve výrobě\nURL: https://www.spcr.cz/r
 ozjed-ai-ve-vyrobe\nPopis: \nNenechte si ujít příležitost seznámit se
  s konkrétními příklady využití AI v praxi. \nExperti z firem\, u
 niverzit i státní správy budou 29. května v Liberci sdílet své zkuš
 enosti s nasazováním AI ve výrobě. Nenechte si ujít příležitost se
 známit se s konkrétními příklady využití AI v praxi.Dozvíte se\,
  jak může umělá inteligence zefektivnit výrobní procesy – od optim
 alizace provozu přes kontrolu kvality až po analýzu bezpečnostních hr
 ozeb. Čekají vás inspirativní přednášky\, ukázky z praxe\, disku
 ze i možnosti networkingu. Po skončení odpoledního programu budete mí
 t příležitost prohlédnout si také samotnou expozici iQLANDIA. Podrobn
 ý program naleznete níže v sekci Ke stažení. ⇣⇣⇣  Registračn
 í formulářVzhledem k velkému zájmu se prosím snažte udržet účast
  za vaši organizaci na maximálně 2 účastnících. Děkujeme za pochop
 ení. \n
URL:https://www.spcr.cz/rozjed-ai-ve-vyrobe
DTSTART:20250529T090000
DTEND:20250529T160000
LOCATION:iQLANDIA\, Liberec
END:VEVENT
END:VCALENDAR
