BEGIN:VCALENDAR
PRODID:-//eluceo/ical//2.0/EN
VERSION:2.0
CALSCALE:GREGORIAN
BEGIN:VEVENT
UID:68ff36e85a9a65300fe2f9e5b3de6252
DTSTAMP:20260423T125843Z
SUMMARY:Legislativní novinky - webinář
DESCRIPTION:Název akce: Legislativní novinky - webinář\nURL: https://ww
 w.spcr.cz/legislativni-novinky-webinar\nPopis: \nNenechte si ujít online 
 seminář na téma Legislativní novinky\, který přinese přehled aktuá
 lních změn v pracovněprávní legislativě a dalších důležitých ob
 lastech\, jež ovlivňují každodenní chod firem i práci HR oddělení.
 \n Setkáme se online prostřednictvím platformy Zoom. Seminář je ur
 čen:Vedení firem\, personalistům a HR manažerůmVšem\, kteří se pot
 řebují orientovat v aktuální legislativěTémata semináře: Novinky 
 v zákoně o zaměstnanostiFlexinovela zákoníku práce a související p
 rávní předpisyAktuální legislativní změny pro praxiZavedení duáln
 ího vzdělávání do školského zákonaPřednášející:JUDr. Jitka He
 jduková CSc. Ing. Miloš RathouskýMgr. Veronika PasekováMgr. Ing. Blank
 a ŠefránkováCena semináře:1900 Kč bez DPHCena pro individuální čl
 eny SP ČR je 900 Kč bez DPHPro uplatnění slevy použijte kód: SLEVA10
 00Registrovat se můžete zde \n
URL:https://www.spcr.cz/legislativni-novinky-webinar
DTSTART:20250527T090000
DTEND:20250527T120000
LOCATION:
END:VEVENT
END:VCALENDAR
