BEGIN:VCALENDAR
PRODID:-//eluceo/ical//2.0/EN
VERSION:2.0
CALSCALE:GREGORIAN
BEGIN:VEVENT
UID:624a594d4ad6d90e7122f9e26725d230
DTSTAMP:20260423T130007Z
SUMMARY:Legislativní novinky - online seminář
DESCRIPTION:Název akce: Legislativní novinky - online seminář\nURL: htt
 ps://www.spcr.cz/legislativni-novinky-online-seminar\nPopis: \nZveme vás 
 na online seminář „Legislativní novinky“\, který přinese přehle
 d aktuálních změn v pracovněprávní legislativě a dalších důleži
 tých oblastech\, jež ovlivňují každodenní chod firem i práci HR odd
 ělení. Seminář je určen pro vedení firem\, personalisty a HR manaže
 ry a všechny\, kteří se potřebují orientovat v aktuální legislativ
 ě.\nFlexinovela zákoníku práce\, aktuální legislativní změny a nov
 inky v zákoně o zaměstnanosti. Připojte se k online semináři.Zveme v
 ás na online seminář „Legislativní novinky“\, který přinese př
 ehled aktuálních změn v pracovněprávní legislativě a dalších důl
 ežitých oblastech\, jež ovlivňují každodenní chod firem i práci HR
  oddělení. Seminář je určen pro vedení firem\, personalisty a HR man
 ažery a všechny\, kteří se potřebují orientovat v aktuální legisla
 tivě.Vyberte si jeden z termínů (vždy 9:00–12:00):– 27. května 20
 25– 11. června 2025– 18. června 2025Seminář bude probíhat online 
 prostřednictvím platformy Zoom. Termín si vyberete v registračním for
 muláři.Témata semináře:– Novinky v zákoně o zaměstnanosti– Fle
 xinovela zákoníku práce a související právní předpisy– Aktuáln
 í legislativní změny pro praxi– Zavedení duálního vzdělávání d
 o školského zákonaPřednášející:JUDr. Jitka Hejduková\, CSc.Ing. M
 iloš RathouskýMgr. Veronika Paseková\, Mgr. Ing. Blanka ŠefránkováC
 ena semináře:– 1900 Kč bez DPH – Sleva pro individuální členy 
 SP ČR je tisíc Kč: cena po slevě 900 Kč bez DPH – Pro uplatnění
  slevy použijte kód: SLEVA1000[[CTA-tlacitko]]Budeme rádi\, pokud tét
 o příležitosti využijete vy osobně\, nebo ji doporučíte kolegům z 
 oblasti personalistiky či řízení lidských zdrojů.\n
URL:https://www.spcr.cz/legislativni-novinky-online-seminar
DTSTART:20250527T090000
DTEND:20250618T120000
LOCATION:online
END:VEVENT
END:VCALENDAR
