BEGIN:VCALENDAR
PRODID:-//eluceo/ical//2.0/EN
VERSION:2.0
CALSCALE:GREGORIAN
BEGIN:VEVENT
UID:cb04dca4d00ad5abe45f22f70efce789
DTSTAMP:20260423T043359Z
SUMMARY:Payment Options & Foreign Exchange Control in China - webinář
DESCRIPTION:Název akce: Payment Options & Foreign Exchange Control in Chin
 a - webinář\nURL: https://www.spcr.cz/payment-options-foreign-exchange-c
 ontrol-china-webinar\nPopis: \nThe EU SME Centre and the European Union Ch
 amber of Commerce in China are organising a webinar to provide EU SMEs wit
 h reliable guidance on international trade payments from China. \nEuropea
 n SMEs exporting goods and services to China often face challenges related
  to payment options\, conditions\, and procedures. Key concerns include ev
 aluating the financial credibility of buyers and minimising risks associat
 ed with delayed or non-payment. Many SMEs are unfamiliar with local bankin
 g products\, the fragmentation of China’s banking system\, and its role 
 within the global financial network.RegisterAgendaCEST – Brussels Time10
 :00 – 10:05Opening remarksFilippo Pallaroni\, Training Centre Coordinato
 r\, EU SME Centre10:05 – 10:45Keynote PresentationGuidelines on Payment 
 Options & Foreign Exchange Control in ChinaSimone Restaino\, Manager and B
 usiness Advisor\, RsA AsiaTopics to be covered include:- Payment in freely
  convertible foreign exchange - Payment in RMB - Paying from outside mai
 nland China - Real case scenarios in foreign exchange and cross-border pa
 yments10:45 – 10:55Q&A session10:55 – 11:00Closing remarks \n
URL:https://www.spcr.cz/payment-options-foreign-exchange-control-china-webi
 nar
DTSTART:20250522T100000
DTEND:20250522T110000
LOCATION:
END:VEVENT
END:VCALENDAR
