BEGIN:VCALENDAR
PRODID:-//eluceo/ical//2.0/EN
VERSION:2.0
CALSCALE:GREGORIAN
BEGIN:VEVENT
UID:c78b1812eda66769b105da2e558368ac
DTSTAMP:20260423T172619Z
SUMMARY:Zjišťování skutečných majitelů a kontrola právnických osob
  - školení
DESCRIPTION:Název akce: Zjišťování skutečných majitelů a kontrola p
 rávnických osob - školení\nURL: https://www.spcr.cz/skoleni-skutecni-m
 ajitele-sankce-eu\nPopis: \nRada Evropy zve na specializované půldenní 
 školení zaměřené na zjišťování skutečných majitelů a kontrolu 
 právnických osob z hlediska jejich vazeb na sankcionované osoby. \nRad
 a Evropy vás zve na specializované půldenní školení zaměřené na z
 jišťování skutečných majitelů a kontrolu právnických osob z hledi
 ska jejich vazeb na sankcionované osoby v souvislosti se sankcemi EU upla
 tňovanými ve spojitosti s ruskou agresí proti Ukrajině.Školení je so
 učástí projektu financovaného Nástrojem technické podpory ve spolupr
 áci Evropské komise a Rady Evropy. Součástí bude i představení Sank
 čního helpdesku EU.Účastníci se seznámí například s právním poj
 etím pojmů „vlastnictví“ a „ovládání“. Dále s nimi školite
 lé proberou\, jaké existují formy vlastnictví\, jaké jsou mechanismy 
 jejich kontroly a jak vypadá „šedá zóna“ vlastnictví a kontroly p
 rávnických osob. Dozvědí se\, jak vypadá strategická hloubková kon
 trola za účelem zjištění vazeb mezi sankcionovanými osobami a ovlád
 áním nebo vlastnictvím právnických osob. Školitelé jim poradí\, ja
 k zjistit informace z veřejných zdrojů nad rámec údajů z rejstřík
 ů\, jaké jsou taktiky používané k utajení vlastnictví a kontroly a 
 představí také případové studie a praktické příklady.Seminář je
  v anglickém jazyce bez tlumočení a uskuteční se fyzicky i online. M
 ísto konání a odkaz do virtuálního prostředí budou zasálány regis
 trovaným účastníkům.Registrujte se zdeKompletní program naleznete v 
 sekci Ke stažení. ⇣⇣⇣ \n
URL:https://www.spcr.cz/skoleni-skutecni-majitele-sankce-eu
DTSTART:20250522T090000
DTEND:20250522T130000
LOCATION:Praha
END:VEVENT
END:VCALENDAR
