BEGIN:VCALENDAR
PRODID:-//eluceo/ical//2.0/EN
VERSION:2.0
CALSCALE:GREGORIAN
BEGIN:VEVENT
UID:404d37fb771fa39caf7c6118a7a03c98
DTSTAMP:20260423T150508Z
SUMMARY:Jak být slyšet v Bruselu - webinář
DESCRIPTION:Název akce: Jak být slyšet v Bruselu - webinář\nURL: https
 ://www.spcr.cz/jak-byt-slyset-v-bruselu-webinar\nPopis: \nAgentura CzechTr
 ade\, CEBRE a Stálé zastoupení při EU zvou na online seminář o tom\,
  jak evropské instituce ovlivňují podnikatelské prostředí a jak se d
 o tohoto procesu mohou zapojit české firmy. \nAgentura CzechTrade spole
 čně s Českou podnikatelskou reprezentací při EU v Bruselu (CEBRE) a S
 tálým zastoupením ČR při EU zvou na online seminář o tom\, jak evro
 pské instituce ovlivňují podnikatelské prostředí a jak se do tohoto 
 procesu mohou zapojit české firmy. Získáte přehled o fungování Brus
 elu\, aktuálních legislativních prioritách a praktických nástrojích
  pro firmy\, které chtějí být slyšet.Dozvíte se\, jaké kompetence m
 ají jednotlivé instituce EU\, jak probíhá tvorba legislativy a jaké m
 ožnosti mají podniky k zapojení do veřejných konzultací. Představí
 me vám roli Stálého zastoupení ČR při EU jako důležitého kanálu 
 pro zájmy českého průmyslu\, včetně konkrétní podpory\, kterou fir
 mám nabízí.Seminář nabídne i přehled aktuálních legislativních a
  nelegislativních návrhů v oblasti průmyslu\, jako jsou Dohoda o čist
 ém průmyslu\, Dekarbonizační Akt či Akční plán pro dostupné ceny 
 energie. Praktická část se zaměří na to\, jak mohou firmy využívat
  evropské sítě\, konzultace nebo aliance a efektivně sledovat vývoj v
  Bruselu.Přihlásit se na webinář \n
URL:https://www.spcr.cz/jak-byt-slyset-v-bruselu-webinar
DTSTART:20250610T100000
DTEND:20250610T113000
LOCATION:
END:VEVENT
END:VCALENDAR
